BEGIN:VCALENDAR
VERSION:2.0
PRODID:-//85.13.144.111//NONSGML kigkonsult.se iCalcreator 2.20//
CALSCALE:GREGORIAN
METHOD:PUBLISH
X-WR-TIMEZONE:Europe/Berlin
BEGIN:VEVENT
UID:event271@quinta-essentia.de
DTSTAMP:20260421T114531Z
CATEGORIES:Tantra
DESCRIPTION:Entschleunigung\nKategorie: Tantra\nICS-Link: https://www.quint
 a-essentia.de/index.php?option=com_jem&view=event&id=271:tantraseminar-for
 tgeschrittene-entschleunigung\n
DTSTART:20260219T190000
DTEND:20260222T140000
LOCATION:ANIMA*HAUS\,Schnelliggasse 2 (links von Nr. 2)\,67105 Schifferstad
 t
SUMMARY:Entschleunigung
URL:https://www.quinta-essentia.de/index.php?option=com_jem&view=event&id=2
 71:tantraseminar-fortgeschrittene-entschleunigung
END:VEVENT
END:VCALENDAR
