BEGIN:VCALENDAR
VERSION:2.0
PRODID:-//85.13.144.111//NONSGML kigkonsult.se iCalcreator 2.20//
CALSCALE:GREGORIAN
METHOD:PUBLISH
X-WR-TIMEZONE:Europe/Berlin
BEGIN:VEVENT
UID:event284@quinta-essentia.de
DTSTAMP:20260421T114756Z
CATEGORIES:Messen/Ausstellungen
DESCRIPTION:Spiritualität & Heilen\nKategorie: Messen/Ausstellungen\nICS-Li
 nk: https://www.quinta-essentia.de/index.php?option=com_jem&view=event&id=
 284:spiritualitaet-heilen\n
DTSTART:20260206T140000
DTEND:20260208T180000
LOCATION:Rheingoldhalle\,Rheingoldstr. 215\,68199 Mannheim-Neckarau
SUMMARY:Spiritualität & Heilen
URL:https://www.quinta-essentia.de/index.php?option=com_jem&view=event&id=2
 84:spiritualitaet-heilen
END:VEVENT
END:VCALENDAR
