BEGIN:VCALENDAR
VERSION:2.0
PRODID:-//85.13.144.111//NONSGML kigkonsult.se iCalcreator 2.20//
CALSCALE:GREGORIAN
METHOD:PUBLISH
X-WR-TIMEZONE:Europe/Berlin
BEGIN:VEVENT
UID:event97@quinta-essentia.de
DTSTAMP:20260423T021533Z
CATEGORIES:Tantra
DESCRIPTION:Du und ich = Wir\nKategorie: Tantra\nICS-Link: https://www.quin
 ta-essentia.de/index.php?option=com_jem&view=event&id=97:tantraseminar-for
 tgeschrittene-seelenpartnerschaft\n
DTSTART:20230518T190000
DTEND:20230521T140000
LOCATION:ANIMA*HAUS\,Schnelliggasse 2 (links von Nr. 2)\,67105 Schifferstad
 t
SUMMARY:Du und ich = Wir
URL:https://www.quinta-essentia.de/index.php?option=com_jem&view=event&id=9
 7:tantraseminar-fortgeschrittene-seelenpartnerschaft
END:VEVENT
END:VCALENDAR
