BEGIN:VCALENDAR
VERSION:2.0
PRODID:-//85.13.144.111//NONSGML kigkonsult.se iCalcreator 2.20//
CALSCALE:GREGORIAN
METHOD:PUBLISH
X-WR-TIMEZONE:Europe/Berlin
BEGIN:VEVENT
UID:event53@quinta-essentia.de
DTSTAMP:20260420T060328Z
CATEGORIES:Familienstellen
DESCRIPTION:Familienstellen\nKategorie: Familienstellen\nICS-Link: https://
 www.quinta-essentia.de/index.php?option=com_jem&view=event&id=53:familiens
 tellen-seminar\n
DTSTART:20171020T190000
DTEND:20171020T190000
LOCATION:ANIMA*HAUS\,Schnelliggasse 2 (links von Nr. 2)\,67105 Schifferstad
 t
SUMMARY:Familienstellen
URL:https://www.quinta-essentia.de/index.php?option=com_jem&view=event&id=5
 3:familienstellen-seminar
END:VEVENT
END:VCALENDAR
