BEGIN:VCALENDAR
VERSION:2.0
PRODID:-//85.13.144.111//NONSGML kigkonsult.se iCalcreator 2.20//
CALSCALE:GREGORIAN
METHOD:PUBLISH
X-WR-TIMEZONE:Europe/Berlin
BEGIN:VEVENT
UID:event285@quinta-essentia.de
DTSTAMP:20260423T082222Z
CATEGORIES:Tantra
DESCRIPTION:Tantra Schnupper Abend\nKategorie: Tantra\nICS-Link: https://ww
 w.quinta-essentia.de/index.php?option=com_jem&view=event&id=285:tantra-sch
 nupper-abend\n
DTSTART:20260509T190000
DTEND:20260509T230000
LOCATION:Im Neuen Garten\,Münchener  Straße 9\,85540 Haar b. München\,Germa
 ny
SUMMARY:Tantra Schnupper Abend
URL:https://www.quinta-essentia.de/index.php?option=com_jem&view=event&id=2
 85:tantra-schnupper-abend
END:VEVENT
BEGIN:VEVENT
UID:event272@quinta-essentia.de
DTSTAMP:20260423T082222Z
CATEGORIES:Tantra
DESCRIPTION:Seelenbegegnung\nKategorie: Tantra\nICS-Link: https://www.quint
 a-essentia.de/index.php?option=com_jem&view=event&id=272:tantraseminar-for
 tgeschrittene-seelenbegegnung\n
DTSTART:20260514T190000
DTEND:20260517T140000
LOCATION:ANIMA*HAUS\,Schnelliggasse 2 (links von Nr. 2)\,67105 Schifferstad
 t\,Germany
SUMMARY:Seelenbegegnung
URL:https://www.quinta-essentia.de/index.php?option=com_jem&view=event&id=2
 72:tantraseminar-fortgeschrittene-seelenbegegnung
END:VEVENT
BEGIN:VEVENT
UID:event253@quinta-essentia.de
DTSTAMP:20260423T082222Z
CATEGORIES:Tantra
DESCRIPTION:Herzenslustabend\nKategorie: Tantra\nICS-Link: https://www.quin
 ta-essentia.de/index.php?option=com_jem&view=event&id=253:herzenslustabend
 \n
DTSTART:20260520T190000
DTEND:20260520T233000
LOCATION:ANIMA*HAUS\,Schnelliggasse 2 (links von Nr. 2)\,67105 Schifferstad
 t\,Germany
SUMMARY:Herzenslustabend
URL:https://www.quinta-essentia.de/index.php?option=com_jem&view=event&id=2
 53:herzenslustabend
END:VEVENT
BEGIN:VEVENT
UID:event269@quinta-essentia.de
DTSTAMP:20260423T082222Z
CATEGORIES:Tantra
DESCRIPTION:Tantra Yacht Urlaub\nKategorie: Tantra\nICS-Link: https://www.q
 uinta-essentia.de/index.php?option=com_jem&view=event&id=269:tantra-yacht-
 urlaub\n
DTSTART:20260530T160000
DTEND:20260606T100000
LOCATION:Ägäis / südl. Dodekanes\,Marmaris\,Turkey
SUMMARY:Tantra Yacht Urlaub
URL:https://www.quinta-essentia.de/index.php?option=com_jem&view=event&id=2
 69:tantra-yacht-urlaub
END:VEVENT
BEGIN:VEVENT
UID:event254@quinta-essentia.de
DTSTAMP:20260423T082222Z
CATEGORIES:Tantra
DESCRIPTION:Herzenslustabend\nKategorie: Tantra\nICS-Link: https://www.quin
 ta-essentia.de/index.php?option=com_jem&view=event&id=254:herzenslustabend
 \n
DTSTART:20260617T190000
DTEND:20260617T233000
LOCATION:ANIMA*HAUS\,Schnelliggasse 2 (links von Nr. 2)\,67105 Schifferstad
 t\,Germany
SUMMARY:Herzenslustabend
URL:https://www.quinta-essentia.de/index.php?option=com_jem&view=event&id=2
 54:herzenslustabend
END:VEVENT
BEGIN:VEVENT
UID:event282@quinta-essentia.de
DTSTAMP:20260423T082222Z
CATEGORIES:Tantra
DESCRIPTION:Tantraheilmassage lernen (2. WE)\nKategorie: Tantra\nICS-Link: 
 https://www.quinta-essentia.de/index.php?option=com_jem&view=event&id=282:
 tantraheilmassage-tantramassage-lernen\n
DTSTART:20260709T193000
DTEND:20260712T180000
LOCATION:ANIMA*HAUS\,Schnelliggasse 2 (links von Nr. 2)\,67105 Schifferstad
 t\,Germany
SUMMARY:Tantraheilmassage lernen (2. WE)
URL:https://www.quinta-essentia.de/index.php?option=com_jem&view=event&id=2
 82:tantraheilmassage-tantramassage-lernen
END:VEVENT
BEGIN:VEVENT
UID:event246@quinta-essentia.de
DTSTAMP:20260423T082222Z
CATEGORIES:Tantra
DESCRIPTION:Massageoase - Die Lernoase\nKategorie: Tantra\nICS-Link: https:
 //www.quinta-essentia.de/index.php?option=com_jem&view=event&id=246:massag
 eoase-die-lernoase\n
DTSTART:20260710T190000
DTEND:20260710T233000
LOCATION:ANIMA*HAUS\,Schnelliggasse 2 (links von Nr. 2)\,67105 Schifferstad
 t\,Germany
SUMMARY:Massageoase - Die Lernoase
URL:https://www.quinta-essentia.de/index.php?option=com_jem&view=event&id=2
 46:massageoase-die-lernoase
END:VEVENT
BEGIN:VEVENT
UID:event255@quinta-essentia.de
DTSTAMP:20260423T082222Z
CATEGORIES:Tantra
DESCRIPTION:Herzenslustabend\nKategorie: Tantra\nICS-Link: https://www.quin
 ta-essentia.de/index.php?option=com_jem&view=event&id=255:herzenslustabend
 \n
DTSTART:20260715T190000
DTEND:20260715T233000
LOCATION:ANIMA*HAUS\,Schnelliggasse 2 (links von Nr. 2)\,67105 Schifferstad
 t\,Germany
SUMMARY:Herzenslustabend
URL:https://www.quinta-essentia.de/index.php?option=com_jem&view=event&id=2
 55:herzenslustabend
END:VEVENT
BEGIN:VEVENT
UID:event249@quinta-essentia.de
DTSTAMP:20260423T082222Z
CATEGORIES:Tantra
DESCRIPTION:Tantraheilmassage lernen\nKategorie: Tantra\nICS-Link: https://
 www.quinta-essentia.de/index.php?option=com_jem&view=event&id=249:tantrahe
 ilmassage-tantramassage-lernen\n
DTSTART:20260717T100000
DTEND:20260719T180000
LOCATION:Im Neuen Garten\,Münchener  Straße 9\,85540 Haar b. München\,Germa
 ny
SUMMARY:Tantraheilmassage lernen
URL:https://www.quinta-essentia.de/index.php?option=com_jem&view=event&id=2
 49:tantraheilmassage-tantramassage-lernen
END:VEVENT
BEGIN:VEVENT
UID:event256@quinta-essentia.de
DTSTAMP:20260423T082222Z
CATEGORIES:Tantra
DESCRIPTION:Herzenslustabend\nKategorie: Tantra\nICS-Link: https://www.quin
 ta-essentia.de/index.php?option=com_jem&view=event&id=256:herzenslustabend
 \n
DTSTART:20260819T190000
DTEND:20260819T233000
LOCATION:ANIMA*HAUS\,Schnelliggasse 2 (links von Nr. 2)\,67105 Schifferstad
 t\,Germany
SUMMARY:Herzenslustabend
URL:https://www.quinta-essentia.de/index.php?option=com_jem&view=event&id=2
 56:herzenslustabend
END:VEVENT
BEGIN:VEVENT
UID:event258@quinta-essentia.de
DTSTAMP:20260423T082222Z
CATEGORIES:Tantra
DESCRIPTION:Herzenslustabend\nKategorie: Tantra\nICS-Link: https://www.quin
 ta-essentia.de/index.php?option=com_jem&view=event&id=258:herzenslustabend
 \n
DTSTART:20260916T190000
DTEND:20260916T233000
LOCATION:ANIMA*HAUS\,Schnelliggasse 2 (links von Nr. 2)\,67105 Schifferstad
 t\,Germany
SUMMARY:Herzenslustabend
URL:https://www.quinta-essentia.de/index.php?option=com_jem&view=event&id=2
 58:herzenslustabend
END:VEVENT
BEGIN:VEVENT
UID:event273@quinta-essentia.de
DTSTAMP:20260423T082222Z
CATEGORIES:Tantra
DESCRIPTION:Lausche dem Schweigen\nKategorie: Tantra\nICS-Link: https://www
 .quinta-essentia.de/index.php?option=com_jem&view=event&id=273:tantrasemin
 ar-fortgeschrittene-schweigen\n
DTSTART:20260917T190000
DTEND:20260920T140000
LOCATION:ANIMA*HAUS\,Schnelliggasse 2 (links von Nr. 2)\,67105 Schifferstad
 t\,Germany
SUMMARY:Lausche dem Schweigen
URL:https://www.quinta-essentia.de/index.php?option=com_jem&view=event&id=2
 73:tantraseminar-fortgeschrittene-schweigen
END:VEVENT
BEGIN:VEVENT
UID:event262@quinta-essentia.de
DTSTAMP:20260423T082222Z
CATEGORIES:Tantra
DESCRIPTION:Geschenke\, die mir gut tun!\nKategorie: Tantra\nICS-Link: http
 s://www.quinta-essentia.de/index.php?option=com_jem&view=event&id=262:tant
 raseminar-einsteiger-geschenke\n
DTSTART:20260925T190000
DTEND:20260927T180000
LOCATION:Im Neuen Garten\,Münchener  Straße 9\,85540 Haar b. München\,Germa
 ny
SUMMARY:Geschenke\, die mir gut tun!
URL:https://www.quinta-essentia.de/index.php?option=com_jem&view=event&id=2
 62:tantraseminar-einsteiger-geschenke
END:VEVENT
BEGIN:VEVENT
UID:event270@quinta-essentia.de
DTSTAMP:20260423T082222Z
CATEGORIES:Tantra
DESCRIPTION:Tantra Yacht Urlaub\nKategorie: Tantra\nICS-Link: https://www.q
 uinta-essentia.de/index.php?option=com_jem&view=event&id=270:tantra-yacht-
 urlaub\n
DTSTART:20261010T160000
DTEND:20261017T100000
LOCATION:Ägäis / südl. Dodekanes\,Marmaris\,Turkey
SUMMARY:Tantra Yacht Urlaub
URL:https://www.quinta-essentia.de/index.php?option=com_jem&view=event&id=2
 70:tantra-yacht-urlaub
END:VEVENT
BEGIN:VEVENT
UID:event259@quinta-essentia.de
DTSTAMP:20260423T082222Z
CATEGORIES:Tantra
DESCRIPTION:Herzenslustabend\nKategorie: Tantra\nICS-Link: https://www.quin
 ta-essentia.de/index.php?option=com_jem&view=event&id=259:herzenslustabend
 \n
DTSTART:20261021T190000
DTEND:20261021T233000
LOCATION:ANIMA*HAUS\,Schnelliggasse 2 (links von Nr. 2)\,67105 Schifferstad
 t\,Germany
SUMMARY:Herzenslustabend
URL:https://www.quinta-essentia.de/index.php?option=com_jem&view=event&id=2
 59:herzenslustabend
END:VEVENT
BEGIN:VEVENT
UID:event260@quinta-essentia.de
DTSTAMP:20260423T082222Z
CATEGORIES:Tantra
DESCRIPTION:Herzenslustabend\nKategorie: Tantra\nICS-Link: https://www.quin
 ta-essentia.de/index.php?option=com_jem&view=event&id=260:herzenslustabend
 \n
DTSTART:20261118T190000
DTEND:20261118T233000
LOCATION:ANIMA*HAUS\,Schnelliggasse 2 (links von Nr. 2)\,67105 Schifferstad
 t\,Germany
SUMMARY:Herzenslustabend
URL:https://www.quinta-essentia.de/index.php?option=com_jem&view=event&id=2
 60:herzenslustabend
END:VEVENT
BEGIN:VEVENT
UID:event263@quinta-essentia.de
DTSTAMP:20260423T082222Z
CATEGORIES:Tantra
DESCRIPTION:Der Ruf der Isis\nKategorie: Tantra\nICS-Link: https://www.quin
 ta-essentia.de/index.php?option=com_jem&view=event&id=263:tantraseminar-ei
 nsteiger-isis\n
DTSTART:20261127T190000
DTEND:20261129T180000
LOCATION:Im Neuen Garten\,Münchener  Straße 9\,85540 Haar b. München\,Germa
 ny
SUMMARY:Der Ruf der Isis
URL:https://www.quinta-essentia.de/index.php?option=com_jem&view=event&id=2
 63:tantraseminar-einsteiger-isis
END:VEVENT
BEGIN:VEVENT
UID:event274@quinta-essentia.de
DTSTAMP:20260423T082222Z
CATEGORIES:Tantra
DESCRIPTION:Tod und Wiedergeburt\nKategorie: Tantra\nICS-Link: https://www.
 quinta-essentia.de/index.php?option=com_jem&view=event&id=274:tantrasemina
 r-fortgeschrittene-tod-wiedergeburt\n
DTSTART:20261203T190000
DTEND:20261206T140000
LOCATION:ANIMA*HAUS\,Schnelliggasse 2 (links von Nr. 2)\,67105 Schifferstad
 t\,Germany
SUMMARY:Tod und Wiedergeburt
URL:https://www.quinta-essentia.de/index.php?option=com_jem&view=event&id=2
 74:tantraseminar-fortgeschrittene-tod-wiedergeburt
END:VEVENT
BEGIN:VEVENT
UID:event261@quinta-essentia.de
DTSTAMP:20260423T082222Z
CATEGORIES:Tantra
DESCRIPTION:Herzenslustabend\nKategorie: Tantra\nICS-Link: https://www.quin
 ta-essentia.de/index.php?option=com_jem&view=event&id=261:herzenslustabend
 \n
DTSTART:20261216T190000
DTEND:20261216T233000
LOCATION:ANIMA*HAUS\,Schnelliggasse 2 (links von Nr. 2)\,67105 Schifferstad
 t\,Germany
SUMMARY:Herzenslustabend
URL:https://www.quinta-essentia.de/index.php?option=com_jem&view=event&id=2
 61:herzenslustabend
END:VEVENT
BEGIN:VEVENT
UID:event45@quinta-essentia.de
DTSTAMP:20260423T082222Z
CATEGORIES:Tantra
DESCRIPTION:Den Inneren Körper spüren\nKategorie: Tantra\nICS-Link: https:/
 /www.quinta-essentia.de/index.php?option=com_jem&view=event&id=45:tantrase
 minar-einsteiger-innerer-koerper\n
DTSTART:20270226T190000
DTEND:20270228T180000
LOCATION:Im Neuen Garten\,Münchener  Straße 9\,85540 Haar b. München\,Germa
 ny
SUMMARY:Den Inneren Körper spüren
URL:https://www.quinta-essentia.de/index.php?option=com_jem&view=event&id=4
 5:tantraseminar-einsteiger-innerer-koerper
END:VEVENT
BEGIN:VEVENT
UID:event264@quinta-essentia.de
DTSTAMP:20260423T082222Z
CATEGORIES:Tantra
DESCRIPTION:Die 7 Tore zur Bewusstheit\nKategorie: Tantra\nICS-Link: https:
 //www.quinta-essentia.de/index.php?option=com_jem&view=event&id=264:tantra
 seminar-einsteiger-bewusstheit-chakren\n
DTSTART:20270423T190000
DTEND:20270425T180000
LOCATION:Im Neuen Garten\,Münchener  Straße 9\,85540 Haar b. München\,Germa
 ny
SUMMARY:Die 7 Tore zur Bewusstheit
URL:https://www.quinta-essentia.de/index.php?option=com_jem&view=event&id=2
 64:tantraseminar-einsteiger-bewusstheit-chakren
END:VEVENT
END:VCALENDAR
