BEGIN:VCALENDAR
VERSION:2.0
PRODID:-//85.13.144.111//NONSGML kigkonsult.se iCalcreator 2.20//
CALSCALE:GREGORIAN
METHOD:PUBLISH
X-WR-TIMEZONE:Europe/Berlin
BEGIN:VEVENT
UID:event66@quinta-essentia.de
DTSTAMP:20260422T123133Z
CATEGORIES:Tantra
DESCRIPTION:Ekstase\nKategorie: Tantra\nICS-Link: https://www.quinta-essent
 ia.de/index.php?option=com_jem&view=event&id=66:tantraseminar-einsteiger-f
 ortgeschrittene-ekstase\n
DTSTART:20251121T190000
DTEND:20251123T180000
LOCATION:ANIMA*HAUS\,Schnelliggasse 2 (links von Nr. 2)\,67105 Schifferstad
 t
SUMMARY:Ekstase
URL:https://www.quinta-essentia.de/index.php?option=com_jem&view=event&id=6
 6:tantraseminar-einsteiger-fortgeschrittene-ekstase
END:VEVENT
END:VCALENDAR
